BEGIN:VCALENDAR
VERSION:2.0
PRODID:-//https://havasurealtors.com//NONSGML kigkonsult.se iCalcreator 2.41.71//
CALSCALE:GREGORIAN
METHOD:PUBLISH
UID:39333639-6431-4238-b931-316534323436
X-WR-CALNAME:JCal Pro Calendar
X-WR-CALDESC:Your online events calendar
X-WR-TIMEZONE:America/Phoenix
BEGIN:VTIMEZONE
TZID:America/Phoenix
BEGIN:STANDARD
TZNAME:MST
DTSTART:20240720T070112
TZOFFSETFROM:+0000
TZOFFSETTO:-0700
END:STANDARD
END:VTIMEZONE
BEGIN:VEVENT
UID:20260107T081500UTC-0584WaCREV@https://havasurealtors.com/
DTSTAMP:20260421T070112Z
CATEGORIES:MLS Tour Meetings
DTSTART;TZID=America/Phoenix:20260708T083000
DTEND;TZID=America/Phoenix:20260708T083000
SUMMARY:Wednesday Market Mixer - South
URL:https://havasurealtors.com/calendar-menu/189-meetings-calendar-category
 /193-mls-tour-meetings-calendar-category/4961-mls-tour-south-area.html
END:VEVENT
END:VCALENDAR
