BEGIN:VCALENDAR
VERSION:2.0
PRODID:-//https://havasurealtors.com//NONSGML kigkonsult.se iCalcreator 2.41.71//
CALSCALE:GREGORIAN
METHOD:PUBLISH
UID:33653939-6565-4064-a431-376537396535
X-WR-CALNAME:JCal Pro Calendar
X-WR-CALDESC:Your online events calendar
X-WR-TIMEZONE:America/Phoenix
BEGIN:VTIMEZONE
TZID:America/Phoenix
BEGIN:STANDARD
TZNAME:MST
DTSTART:20240722T091025
TZOFFSETFROM:+0000
TZOFFSETTO:-0700
END:STANDARD
END:VTIMEZONE
BEGIN:VEVENT
UID:20260108T090000UTC-7802vOEFuM@https://havasurealtors.com/
DTSTAMP:20260423T091025Z
CATEGORIES:Non-credited Classes
DTSTART;TZID=America/Phoenix:20260402T090000
DTEND;TZID=America/Phoenix:20260402T110000
SUMMARY:Flex MLS Training (New Member Requirement)
URL:https://havasurealtors.com/calendar-menu/259-education-classes/185-non-
 credited-classes-calendar-category/5102-flex-mls-training-new-member-requi
 rement.html
END:VEVENT
END:VCALENDAR
