BEGIN:VCALENDAR
VERSION:2.0
PRODID:-//https://havasurealtors.com//NONSGML kigkonsult.se iCalcreator 2.41.71//
CALSCALE:GREGORIAN
METHOD:PUBLISH
UID:35393338-3564-4633-a439-303536356662
X-WR-CALNAME:JCal Pro Calendar
X-WR-CALDESC:Your online events calendar
X-WR-TIMEZONE:America/Phoenix
BEGIN:VTIMEZONE
TZID:America/Phoenix
BEGIN:STANDARD
TZNAME:MST
DTSTART:20240719T182504
TZOFFSETFROM:+0000
TZOFFSETTO:-0700
END:STANDARD
END:VTIMEZONE
BEGIN:VEVENT
UID:20200811T090000MST-2000LfXjp7@http://lhsuiws.rapams.com/
DTSTAMP:20260420T182504Z
CATEGORIES:Orientation Classes
DTSTART;TZID=America/Phoenix:20200811T090000
DTEND;TZID=America/Phoenix:20200811T160000
SUMMARY:New Member Contracts Class
URL:https://havasurealtors.com/calendar-menu/259-education-classes/257-orie
 ntation-classes/1601-new-member-contracts-class.html
END:VEVENT
END:VCALENDAR
