BEGIN:VCALENDAR
VERSION:2.0
PRODID:-//https://havasurealtors.com//NONSGML kigkonsult.se iCalcreator 2.41.71//
CALSCALE:GREGORIAN
METHOD:PUBLISH
UID:62333732-6263-4532-b033-353939353566
X-WR-CALNAME:JCal Pro Calendar
X-WR-CALDESC:Your online events calendar
X-WR-TIMEZONE:America/Phoenix
BEGIN:VTIMEZONE
TZID:America/Phoenix
BEGIN:STANDARD
TZNAME:MST
DTSTART:20240721T144210
TZOFFSETFROM:+0000
TZOFFSETTO:-0700
END:STANDARD
END:VTIMEZONE
BEGIN:VEVENT
UID:20220105T080000MST-6939TPIDge@https://lhsuiws.rapams.com/
DTSTAMP:20260422T144210Z
CATEGORIES:MLS Tour Meetings
DTSTART;TZID=America/Phoenix:20220831T080000
DTEND;TZID=America/Phoenix:20220831T090000
SUMMARY:MLS Tour - South Area
URL:https://havasurealtors.com/calendar-menu/189-meetings-calendar-category
 /193-mls-tour-meetings-calendar-category/2966-mls-tour-all-area-s.html
END:VEVENT
BEGIN:VEVENT
UID:20220831T110000MST-4377lMWkzP@https://lhsuiws.rapams.com/
DTSTAMP:20260422T144210Z
CATEGORIES:Public Meetings
DTSTART;TZID=America/Phoenix:20220831T000000
DTEND;TZID=America/Phoenix:20220831T235959
RRULE:FREQ=DAILY;UNTIL=20220901T070000Z;INTERVAL=1
SUMMARY:2022 AZ REALTORS® Annual Summit
URL:https://havasurealtors.com/calendar-menu/189-meetings-calendar-category
 /190-public-meetings-calendar-category/3242-2022-az-realtors-annual-summit
 .html
END:VEVENT
END:VCALENDAR
