BEGIN:VCALENDAR
VERSION:2.0
PRODID:-//https://havasurealtors.com//NONSGML kigkonsult.se iCalcreator 2.41.71//
CALSCALE:GREGORIAN
METHOD:PUBLISH
UID:64346331-3861-4465-a336-313865343962
X-WR-CALNAME:JCal Pro Calendar
X-WR-CALDESC:Your online events calendar
X-WR-TIMEZONE:America/Phoenix
BEGIN:VTIMEZONE
TZID:America/Phoenix
BEGIN:STANDARD
TZNAME:MST
DTSTART:20240721T144319
TZOFFSETFROM:+0000
TZOFFSETTO:-0700
END:STANDARD
END:VTIMEZONE
BEGIN:VEVENT
UID:20261124T120000UTC-6130fuuFjS@https://havasurealtors.com/
DTSTAMP:20260422T144319Z
CATEGORIES:Holidays
DTSTART;TZID=America/Phoenix:20261224T120000
DTEND;TZID=America/Phoenix:20261224T130000
SUMMARY:Association Office Closed At Noon - Christmas Observed
URL:https://havasurealtors.com/this-week-calendar-menu/196-holidays-calenda
 r-category/5096-association-office-closed-at-noon-christmas-observed.html
END:VEVENT
END:VCALENDAR
