BEGIN:VCALENDAR
VERSION:2.0
PRODID:-//https://havasurealtors.com//NONSGML kigkonsult.se iCalcreator 2.41.71//
CALSCALE:GREGORIAN
METHOD:PUBLISH
UID:35363365-3866-4839-a661-666139623234
X-WR-CALNAME:JCal Pro Calendar
X-WR-CALDESC:Your online events calendar
X-WR-TIMEZONE:America/Phoenix
BEGIN:VTIMEZONE
TZID:America/Phoenix
BEGIN:STANDARD
TZNAME:MST
DTSTART:20240721T180353
TZOFFSETFROM:+0000
TZOFFSETTO:-0700
END:STANDARD
END:VTIMEZONE
BEGIN:VEVENT
UID:20220811T090000MST-4264jlVJLd@https://lhsuiws.rapams.com/
DTSTAMP:20260422T180353Z
CATEGORIES:Finance Committee
DTSTART;TZID=America/Phoenix:20220811T090000
DTEND;TZID=America/Phoenix:20220811T100000
SUMMARY:Finance Committee Meeting
URL:https://havasurealtors.com/todays-calendar-calendar-view/189-meetings-c
 alendar-category/194-committee-meetings-calendar-cateogory/269-finance-com
 mittee/3299-finance-committee-meeting.html
END:VEVENT
END:VCALENDAR
