BEGIN:VCALENDAR
VERSION:2.0
PRODID:-//https://havasurealtors.com//NONSGML kigkonsult.se iCalcreator 2.41.71//
CALSCALE:GREGORIAN
METHOD:PUBLISH
UID:35613039-3763-4363-b532-653662386530
X-WR-CALNAME:JCal Pro Calendar
X-WR-CALDESC:Your online events calendar
X-WR-TIMEZONE:America/Phoenix
BEGIN:VTIMEZONE
TZID:America/Phoenix
BEGIN:STANDARD
TZNAME:MST
DTSTART:20240722T084437
TZOFFSETFROM:+0000
TZOFFSETTO:-0700
END:STANDARD
END:VTIMEZONE
BEGIN:VEVENT
UID:20221021T150000MST-4020SVWxt8@https://lhsuiws.rapams.com/
DTSTAMP:20260423T084437Z
CATEGORIES:Rentals
DTSTART;TZID=America/Phoenix:20221021T150000
DTEND;TZID=America/Phoenix:20221021T210000
SUMMARY:Early Entry Rental - Patino
URL:https://havasurealtors.com/todays-calendar-calendar-view/258-rentals/28
 21-early-entry-rental-patino.html
END:VEVENT
END:VCALENDAR
